Workbook

Sheet Information and Instructions
A1: Non-Research Costing Template
A3: Introduction
A4: This Costing Tool has been designed in conjunction with the University Financial Framework. It provides a transparent and consistent approach to costing new modules/courses/programmes/activities across the University, ensuring evaluation of proposals on a consistent financial basis. It covers both Standard and Non-Standard Courses or activities. This template should be completed in conjunction with the relevant Business Case required for the type of new activity you are proposing and submitted to the relevant Board / Committee / PO Lead etc. For example new modules / courses also require a full business case along with this costing template to be submitted to the Curriculum Approvals Group (CAG), Short Courses require to go to the Short Courses Committee. Further advice and support on how to complete the template is available from your FAS Team. The template should be approved by your FAS Senior Management Accountant prior to submitting to the relevant Board / Committee / PO Lead.
A14: How to Complete
A15: Please complete the 'Costing Template - Input' tab. This updates the Overview tab which summarises the overall income, costs and surplus the new programme / activity is estimated to generate. The 'Costing Template - Input' tab is split into 3 sections: Income, Staff Costs and Non-Staff Costs. 1.0 - Income Calculates student related activity (rows 8-13) via estimated FTE multiplied by the estimated fee. You should liaise with Registry / Admissions to carry out relevant market research and agree on estimated FTE and fees, this is likely to be for UG, PGT, summer courses, CPD, non-degree courses etc. Please ensure you consider both home and overseas students when considering this and only include 'new students' therefore discount any students that would likely be displaced from current courses / programmes. There is a separate section for any non fee related activity (rows 15-17), please provide details of what this activity will be e.g. Conference Income, Sponsorship etc. 2.1 Staff Costs This section is split into current and new for both Academic and Non-Academic staff. There is an FTE calculator (columns R-Z) to help estimate the %age effort for each staff member or if you prefer to work in hour's this can be entered in column C. If the staff member is only required for one year, delete costs out for other years. The £ calculations are automated for ease of use and will use the average for the grade point including on costs and 3% inflation in years 2 and 3. Key things to consider when estimating the %age effort or number of hour's are: Contact Time, Dissertation Supervision, Assessment & Marking, Preparation Time, Administration, Management & Planning & Communication to Students 2.2 Non Staff Costs This covers any additional operational expenditure related to setting up and running this new course / programme / activity (Direct costs). You should consider both recurring and non-recurring costs within this. If approved you will receive this operational budget specifically within your annual budget for all non-standard courses / activity. For any standard courses/ activity this will be the case until the programme / course is embedded and forms part of the formulaic approach to operational budgets. Additionally an overhead element has been built in to reflect full economic costings (Indirect Costs). The current overhead rate is 30% of Direct Costs. 3 Surplus / (Deficit) The overall surplus / deficit is calculated and should be considered in deciding whether to proceed with the new programme / course. As agreed in the Financial Framework 50% of any net surplus will be returned (a year in arrears) to the schools operational budget for all non-standard course/activity. The 'Overview' tab summarises the detailed costings. There is also a section to capture supporting commentary around the assumptions used and back up the financials. This tab also includes a sign off section for the school and FAS.
A53: Where can I get Support
A54: For general help / advice / support please contact your FAS Team (https://www.st-andrews.ac.uk/finance/financialadviceandsupportteams/) For any new / updated standard courses please use the Module and programme approval pages alongside this template: https://www.st-andrews.ac.uk/education/staff/teaching/curriculum/module-approval/ Please contact Admissions for any help with market analysis and Registry for any help with fees and programme arrangements. For any non-standard course please use the Short Courses Committee pages alongside this template: https://www.st-andrews.ac.uk/staff/studentadmin/study-abroad/shortcourses/ Please contact the Global Office with any questions: partnerships@st-andrews.ac.uk For any other activity / business please speak with your FAS team in the first instance. Please see the 'Costing Template - Example' tab for a detailed worked example.

Sheet Overview
A1: ='Costing Template - Input'!A6 -> 0 | M1: ='Costing Template - Example'!A6 -> Example
B2: Year zero | D2: Year one | F2: Year Two | H2: Year Three | N2: Year zero | P2: Year one | R2: Year Two | T2: Year Three
A3: ='Costing Template - Input'!B1 -> 0 | B3: Predicted No of Students | C3: Total Income / Spend | D3: Predicted No of Students | E3: Total Income / Spend | F3: Predicted No of Students | G3: Total Income / Spend | H3: Predicted No of Students | I3: Total Income / Spend | M3: Enter Programme / Course Name | N3: Predicted No of Students | O3: Total Income / Spend | P3: Predicted No of Students | Q3: Total Income / Spend | R3: Predicted No of Students | S3: Total Income / Spend | T3: Predicted No of Students | U3: Total Income / Spend
A4: ='Costing Template - Input'!A18 -> 1.0 Total income to University | B4: ='Costing Template - Input'!E14 -> 0 | C4: ='Costing Template - Input'!G14 -> 0 | D4: ='Costing Template - Input'!H14 -> 0 | E4: ='Costing Template - Input'!J18 -> 0 | F4: ='Costing Template - Input'!K14 -> 0 | G4: ='Costing Template - Input'!M18 -> 0 | H4: ='Costing Template - Input'!N14 -> 0 | I4: ='Costing Template - Input'!P18 -> 0 | M4: 1.0 Total income to University | N4: ='Costing Template - Example'!E14 -> 0 | O4: ='Costing Template - Example'!G14 -> 0 | P4: ='Costing Template - Example'!H14 -> 15 | Q4: ='Costing Template - Example'!J18 -> 120000 | R4: ='Costing Template - Example'!K14 -> 20 | S4: ='Costing Template - Example'!M18 -> 197000 | T4: ='Costing Template - Example'!N14 -> 26 | U4: ='Costing Template - Example'!P18 -> 293000
A5: Total Current Academic Time Expenditure | C5: ='Costing Template - Input'!G27 -> 0 | E5: ='Costing Template - Input'!J27 -> 0 | G5: ='Costing Template - Input'!M27 -> 0 | I5: ='Costing Template - Input'!P27 -> 0 | M5: Total Current Academic Time Expenditure | O5: ='Costing Template - Example'!G27 -> 0 | Q5: ='Costing Template - Example'!J27 -> 27017.809 | S5: ='Costing Template - Example'!M27 -> 27828.344 | U5: ='Costing Template - Example'!P27 -> 28663.194
A6: Total New Academic Time Expenditure | C6: ='Costing Template - Input'!G34 -> 0 | E6: ='Costing Template - Input'!J34 -> 0 | G6: ='Costing Template - Input'!M34 -> 0 | I6: ='Costing Template - Input'!P34 -> 0 | M6: Total New Academic Time Expenditure | O6: ='Costing Template - Example'!G34 -> 0 | Q6: ='Costing Template - Example'!J34 -> 30233 | S6: ='Costing Template - Example'!M34 -> 31139.99 | U6: ='Costing Template - Example'!P34 -> 32074.19
A7: Total Current Support Time Expenditure | C7: ='Costing Template - Input'!G40 -> 0 | E7: ='Costing Template - Input'!J40 -> 0 | G7: ='Costing Template - Input'!M40 -> 0 | I7: ='Costing Template - Input'!P40 -> 0 | M7: Total Current Support Time Expenditure | O7: ='Costing Template - Example'!G40 -> 0 | Q7: ='Costing Template - Example'!J40 -> 7316.75 | S7: ='Costing Template - Example'!M40 -> 7536.2525 | U7: ='Costing Template - Example'!P40 -> 7762.3401
A8: Total New Support Time Expenditure | C8: ='Costing Template - Input'!G46 -> 0 | E8: ='Costing Template - Input'!J46 -> 0 | G8: ='Costing Template - Input'!M46 -> 0 | I8: ='Costing Template - Input'!P46 -> 0 | M8: Total New Support Time Expenditure | O8: ='Costing Template - Example'!G46 -> 0 | Q8: ='Costing Template - Example'!J46 -> 0 | S8: ='Costing Template - Example'!M46 -> 0 | U8: ='Costing Template - Example'!P46 -> 0
A9: 2.1 Total Staff Costs | C9: =SUM(C5:C8) -> 0 | E9: =SUM(E5:E8) -> 0 | G9: =SUM(G5:G8) -> 0 | I9: =SUM(I5:I8) -> 0 | M9: 2.1 Total Staff Costs | O9: =SUM(O5:O8) -> 0 | Q9: =SUM(Q5:Q8) -> 64567.559 | S9: =SUM(S5:S8) -> 66504.586 | U9: =SUM(U5:U8) -> 68499.724
A10: Total Additional Operational Expenditure | C10: ='Costing Template - Input'!G60 -> 0 | E10: ='Costing Template - Input'!J60 -> 0 | G10: ='Costing Template - Input'!M60 -> 0 | I10: ='Costing Template - Input'!P60 -> 0 | M10: Total Additional Operational Expenditure | O10: ='Costing Template - Example'!G60 -> 5500 | Q10: ='Costing Template - Example'!J60 -> 18000 | S10: ='Costing Template - Example'!M60 -> 29500 | U10: ='Costing Template - Example'!P60 -> 35700
A11: Total Overheads | C11: ='Costing Template - Input'!G64 -> 0 | E11: ='Costing Template - Input'!J64 -> 0 | G11: ='Costing Template - Input'!M64 -> 0 | I11: ='Costing Template - Input'!P64 -> 0 | M11: Total Overheads | O11: ='Costing Template - Example'!G64 -> 1650 | Q11: ='Costing Template - Example'!J64 -> 24770.268 | S11: ='Costing Template - Example'!M64 -> 28801.376 | U11: ='Costing Template - Example'!P64 -> 31259.917
A12: ='Costing Template - Input'!A68 -> Total cost that don't drive overheads | C12: ='Costing Template - Input'!G68 -> 0 | E12: ='Costing Template - Input'!J68 -> 0 | G12: ='Costing Template - Input'!M68 -> 0 | I12: ='Costing Template - Input'!P68 -> 0 | M12: ='Costing Template - Example'!A68 -> Total cost that don't drive overheads | O12: ='Costing Template - Example'!G68 -> 0 | Q12: ='Costing Template - Example'!J68 -> 4000 | S12: ='Costing Template - Example'!M68 -> 4000 | U12: ='Costing Template - Example'!P68 -> 4000
A13: 2.2 Total Non-Staff Costs | C13: =C10+C11+C12 -> 0 | E13: =E10+E11+E12 -> 0 | G13: =G10+G11+G12 -> 0 | I13: =I10+I11+I12 -> 0 | M13: 2.2 Total Non-Staff Costs | O13: =O10+O11+O12 -> 7150 | Q13: =Q10+Q11+Q12 -> 46770.268 | S13: =S10+S11+S12 -> 62301.376 | U13: =U10+U11+U12 -> 70959.917
A14: 2.0 Total Costs | C14: =C13+C9 -> 0 | E14: =E13+E9 -> 0 | G14: =G13+G9 -> 0 | I14: =I13+I9 -> 0 | M14: 2.0 Total Costs | O14: =O13+O9 -> 7150 | Q14: =Q13+Q9 -> 111337.83 | S14: =S13+S9 -> 128805.96 | U14: =U13+U9 -> 139459.64
A15: 3.0 Estimated Surplus/Deficit | C15: =C4-C14 -> 0 | E15: =E4-E14 -> 0 | G15: =G4-G14 -> 0 | I15: =I4-I14 -> 0 | M15: 3.0 Estimated Surplus/Deficit | O15: =O4-O14 -> -7150 | Q15: =Q4-Q14 -> 8662.1728 | S15: =S4-S14 -> 68194.038 | U15: =U4-U14 -> 153540.36
A16: =IF('Costing Template - Input'!$B$2=Payscale!$V$14,"Estimated Return to School Operation Budget (year in arrears)","Additional Operational Budget will be allocated via the Formulaic Approach to Operational Budgets") -> Additional Operational Budget will be allocated via the Formulaic Approach to Operational Budgets | C16: 0 | E16: =IF('Costing Template - Input'!$B$2=Payscale!$V$14,E15*0.5,0) -> 0 | G16: =IF('Costing Template - Input'!$B$2=Payscale!$V$14,G15*0.5,0) -> 0 | I16: =IF('Costing Template - Input'!$B$2=Payscale!$V$14,I15*0.5,0) -> 0 | M16: =IF('Costing Template - Example'!$B$2=Payscale!$V$14,"Estimated Return to School Operation Budget (year in arrears)","Additional Operational Budget will be allocated via the Formulaic Approach to Operational Budgets") -> Estimated Return to School Operation Budget (year in arrears) | O16: 0 | Q16: =IF('Costing Template - Example'!$B$2=Payscale!$V$14,Q15*0.5,0) -> 4331.0864 | S16: =IF('Costing Template - Example'!$B$2=Payscale!$V$14,S15*0.5,0) -> 34097.019 | U16: =IF('Costing Template - Example'!$B$2=Payscale!$V$14,U15*0.5,0) -> 76770.18
A18: 4.0 Total Capital Investment | C18: ='Costing Template - Input'!G82 -> 0 | E18: ='Costing Template - Input'!J82 -> 0 | G18: ='Costing Template - Input'!M82 -> 0 | I18: ='Costing Template - Input'!P82 -> 0 | M18: 4.0 Total Capital Investment | O18: ='Costing Template - Example'!G82 -> 100000 | Q18: ='Costing Template - Example'!J82 -> 25000 | S18: ='Costing Template - Example'!M82 -> 0 | U18: ='Costing Template - Example'!P82 -> 0
A20: Supporting Commentary | M20: Supporting Commentary (Example)
M21: This course will provide an additional dimension to the school and complement the current courses on offer. It should also become a feeder course for our PGT …........... The estimated students numbers and fees have been discussed with Registry and Admissions colleagues and market research carried out in conjunction with this. Year one student numbers are relatively conservative and with the correct marketing we would hope to at least achieve these figures. From Year 3 onwards we would hope to grow by a further 10% per year until reaching saturation at around 38 FTE by Year 7. These should be new students to the University and help growth rather than displace current programme students. We can deliver most of this new course from within current staffing but we would require one new 50% teaching fellow. See full business case for more detail on the staffing, teaching delivery and assessments. In terms of operational expenditure there will be some minor one-off advertising expenditure in year 1, lab & field costs which will increase with increasing numbers to £21k in Year 3 to a stable level of £25k by Year 7. In Years 2 & 3 we would like to offer some fee scholarships to help boost recruitment numbers, we expect to then maintain these at Year 3 levels of £15k. the 50% return of net surplus will be used within the school firstly to support the research activity of the current staff that will contribute to this course. Any remaining return will be used to support our PGR students for travel, conferences, consumables etc.
A43: Submitted By | H43: Date | M43: Submitted By (on behalf of School / Unit) | P43: J Bloggs (HoS) | T43: Date | U43: 44661
A44: Reviewed & Approved by | H44: Date | M44: Reviewed & Approved By (on behalf of FAS) | P44: Kathryn Davidson (SMA) | T44: Date | U44: 44667

Sheet Costing Template - Input
A1: Enter Programme / Course / Activity Name here
A2: Will this form a core academic course (through CAG i.e. credit bearing) or a non-core course (through Short Courses Committee i.e. non-credit bearing)
E5: Year zero | H5: Year one | K5: Year Two | N5: Year Three
A6: =B1 -> 0 | E6: Predicted No of Students | F6: Fee (agreed with fees office) | G6: Total Income / Spend | H6: Predicted No of Students | I6: Fee (agreed with fees office) | J6: Total Income / Spend | K6: Predicted No of Students | L6: Fee (agreed with fees office) | M6: Total Income / Spend | N6: Predicted No of Students | O6: Fee (agreed with fees office) | P6: Total Income / Spend
A7: 1.1 Predicted Fee / Delegate Income | B7: Status | C7: Source of Estimated Fee e.g. Registry / Market Research | R7: FTE Calculator
A8: Income from fees (home) | B8: Full Time | G8: =E8*F8 -> 0 | J8: =H8*I8 -> 0 | L8: =I8*1.03 -> 0 | M8: =K8*L8 -> 0 | O8: =L8*1.03 -> 0 | P8: =N8*O8 -> 0 | R8: FTE Calculator | Y8: % Effort
A9: Income from fees (overseas) | B9: Full Time | G9: =E9*F9 -> 0 | J9: =H9*I9 -> 0 | M9: =K9*L9 -> 0 | P9: =N9*O9 -> 0 | R9: Position | S9: Start Date | T9: End Date | U9: Time | V9: % Effort | W9: FTE | Y9: 1 Day per week | Z9: 0.2
A10: Income from external funding | B10: Full Time | G10: =E10*F10 -> 0 | J10: =H10*I10 -> 0 | M10: =K10*L10 -> 0 | P10: =N10*O10 -> 0 | U10: =IF(AND(0<S10, 0<T10),(DATEDIF(S10,T10,"d")+1)/365,0) -> 0 | W10: =V10*U10 -> 0 | Y10: 2 Day per week | Z10: 0.4
A11: Income from fees (home) | B11: Part Time | G11: =E11*F11 -> 0 | J11: =H11*I11 -> 0 | M11: =K11*L11 -> 0 | P11: =N11*O11 -> 0 | U11: =IF(AND(0<S11, 0<T11),(DATEDIF(S11,T11,"d")+1)/365,0) -> 0 | W11: =V11*U11 -> 0 | Y11: 3 Day per week | Z11: 0.6
A12: Income from fees (overseas) | B12: Part Time | G12: =E12*F12 -> 0 | J12: =H12*I12 -> 0 | M12: =K12*L12 -> 0 | P12: =N12*O12 -> 0 | U12: =IF(AND(0<S12, 0<T12),(DATEDIF(S12,T12,"d")+1)/365,0) -> 0 | W12: =V12*U12 -> 0 | Y12: 4 Day per week | Z12: 0.8
A13: Income from external funding | B13: Part Time | G13: =E13*F13 -> 0 | J13: =H13*I13 -> 0 | M13: =K13*L13 -> 0 | P13: =N13*O13 -> 0 | U13: =IF(AND(0<S13, 0<T13),(DATEDIF(S13,T13,"d")+1)/365,0) -> 0 | W13: =V13*U13 -> 0 | Y13: 5 Day per week | Z13: 1
A14: 1.1 Total income from Fees | E14: =SUM(E8:E13) -> 0 | F14: =G14/E14 -> #DIV/0! | G14: =SUM(G8:G13) -> 0 | H14: =SUM(H8:H13) -> 0 | I14: =J14/H14 -> #DIV/0! | J14: =SUM(J8:J13) -> 0 | K14: =SUM(K8:K13) -> 0 | L14: =M14/K14 -> #DIV/0! | M14: =SUM(M8:M13) -> 0 | N14: =SUM(N8:N13) -> 0 | O14: =P14/N14 -> #DIV/0! | P14: =SUM(P8:P13) -> 0 | U14: =IF(AND(0<S14, 0<T14),(DATEDIF(S14,T14,"d")+1)/365,0) -> 0 | W14: =V14*U14 -> 0
A15: Misc income - please detail | U15: =IF(AND(0<S15, 0<T15),(DATEDIF(S15,T15,"d")+1)/365,0) -> 0 | W15: =V15*U15 -> 0
A16: Misc income - please detail | U16: =IF(AND(0<S16, 0<T16),(DATEDIF(S16,T16,"d")+1)/365,0) -> 0 | W16: =V16*U16 -> 0
A17: Misc income - please detail | U17: =IF(AND(0<S17, 0<T17),(DATEDIF(S17,T17,"d")+1)/365,0) -> 0 | W17: =V17*U17 -> 0
A18: 1.0 Total income to University | G18: =G14+SUM(G15:G17) -> 0 | J18: =J14+SUM(J15:J17) -> 0 | M18: =M14+SUM(M15:M17) -> 0 | P18: =P14+SUM(P15:P17) -> 0 | U18: =IF(AND(0<S18, 0<T18),(DATEDIF(S18,T18,"d")+1)/365,0) -> 0 | W18: =V18*U18 -> 0
U19: =IF(AND(0<S19, 0<T19),(DATEDIF(S19,T19,"d")+1)/365,0) -> 0 | W19: =V19*U19 -> 0
A20: 2.0 Costs | C20: Please only enter hours or FTE. Not both. FTE calculator is available if needed. | U20: =IF(AND(0<S20, 0<T20),(DATEDIF(S20,T20,"d")+1)/365,0) -> 0 | W20: =V20*U20 -> 0
A21: 2.1.1 Current Academic staff time required | B21: Grade | C21: Hours | D21: %FTE | U21: =IF(AND(0<S21, 0<T21),(DATEDIF(S21,T21,"d")+1)/365,0) -> 0 | W21: =V21*U21 -> 0
A22: Course development flat rate | G22: =IF(C22>0,(IF(ISERROR(VLOOKUP(B22,Payscale!R:S,2,0)),0,VLOOKUP(B22,Payscale!R:S,2,0)))*C22,(IF(ISERROR(VLOOKUP(B22,Payscale!R:T,3,0)),0,VLOOKUP(B22,Payscale!R:T,3,0)))*D22) -> 0 | J22: =IF(C22>0,(IF(ISERROR(VLOOKUP(B22,Payscale!R:S,2,0)),0,VLOOKUP(B22,Payscale!R:S,2,0)))*C22,(IF(ISERROR(VLOOKUP(B22,Payscale!R:T,3,0)),0,VLOOKUP(B22,Payscale!R:T,3,0)))*D22) -> 0 | M22: =J22*1.03 -> 0 | P22: =M22*1.03 -> 0 | U22: =IF(AND(0<S22, 0<T22),(DATEDIF(S22,T22,"d")+1)/365,0) -> 0 | W22: =V22*U22 -> 0
G23: =IF(C23>0,(IF(ISERROR(VLOOKUP(B23,Payscale!R:S,2,0)),0,VLOOKUP(B23,Payscale!R:S,2,0)))*C23,(IF(ISERROR(VLOOKUP(B23,Payscale!R:T,3,0)),0,VLOOKUP(B23,Payscale!R:T,3,0)))*D23) -> 0 | J23: =IF(C23>0,(IF(ISERROR(VLOOKUP(B23,Payscale!R:S,2,0)),0,VLOOKUP(B23,Payscale!R:S,2,0)))*C23,(IF(ISERROR(VLOOKUP(B23,Payscale!R:T,3,0)),0,VLOOKUP(B23,Payscale!R:T,3,0)))*D23) -> 0 | M23: =J23*1.03 -> 0 | P23: =M23*1.03 -> 0 | U23: =IF(AND(0<S23, 0<T23),(DATEDIF(S23,T23,"d")+1)/365,0) -> 0 | W23: =V23*U23 -> 0
G24: =IF(C24>0,(IF(ISERROR(VLOOKUP(B24,Payscale!R:S,2,0)),0,VLOOKUP(B24,Payscale!R:S,2,0)))*C24,(IF(ISERROR(VLOOKUP(B24,Payscale!R:T,3,0)),0,VLOOKUP(B24,Payscale!R:T,3,0)))*D24) -> 0 | J24: =IF(C24>0,(IF(ISERROR(VLOOKUP(B24,Payscale!R:S,2,0)),0,VLOOKUP(B24,Payscale!R:S,2,0)))*C24,(IF(ISERROR(VLOOKUP(B24,Payscale!R:T,3,0)),0,VLOOKUP(B24,Payscale!R:T,3,0)))*D24) -> 0 | M24: =J24*1.03 -> 0 | P24: =M24*1.03 -> 0 | U24: =IF(AND(0<S24, 0<T24),(DATEDIF(S24,T24,"d")+1)/365,0) -> 0 | W24: =V24*U24 -> 0
G25: =IF(C25>0,(IF(ISERROR(VLOOKUP(B25,Payscale!R:S,2,0)),0,VLOOKUP(B25,Payscale!R:S,2,0)))*C25,(IF(ISERROR(VLOOKUP(B25,Payscale!R:T,3,0)),0,VLOOKUP(B25,Payscale!R:T,3,0)))*D25) -> 0 | J25: =IF(C25>0,(IF(ISERROR(VLOOKUP(B25,Payscale!R:S,2,0)),0,VLOOKUP(B25,Payscale!R:S,2,0)))*C25,(IF(ISERROR(VLOOKUP(B25,Payscale!R:T,3,0)),0,VLOOKUP(B25,Payscale!R:T,3,0)))*D25) -> 0 | M25: =J25*1.03 -> 0 | P25: =M25*1.03 -> 0
G26: =IF(C26>0,(IF(ISERROR(VLOOKUP(B26,Payscale!R:S,2,0)),0,VLOOKUP(B26,Payscale!R:S,2,0)))*C26,(IF(ISERROR(VLOOKUP(B26,Payscale!R:T,3,0)),0,VLOOKUP(B26,Payscale!R:T,3,0)))*D26) -> 0 | J26: =IF(C26>0,(IF(ISERROR(VLOOKUP(B26,Payscale!R:S,2,0)),0,VLOOKUP(B26,Payscale!R:S,2,0)))*C26,(IF(ISERROR(VLOOKUP(B26,Payscale!R:T,3,0)),0,VLOOKUP(B26,Payscale!R:T,3,0)))*D26) -> 0 | M26: =J26*1.03 -> 0 | P26: =M26*1.03 -> 0
A27: Total Current Academic Time Expenditure | G27: =SUM(G22:G26) -> 0 | J27: =SUM(J22:J26) -> 0 | M27: =SUM(M22:M26) -> 0 | P27: =SUM(P22:P26) -> 0
A28: 2.1.2 New Academic staff time required
A29: none | G29: =IF(C29>0,(IF(ISERROR(VLOOKUP(B29,Payscale!R:S,2,0)),0,VLOOKUP(B29,Payscale!R:S,2,0)))*C29,(IF(ISERROR(VLOOKUP(B29,Payscale!R:T,3,0)),0,VLOOKUP(B29,Payscale!R:T,3,0)))*D29) -> 0 | J29: =IF(C29>0,(IF(ISERROR(VLOOKUP(B29,Payscale!R:S,2,0)),0,VLOOKUP(B29,Payscale!R:S,2,0)))*C29,(IF(ISERROR(VLOOKUP(B29,Payscale!R:T,3,0)),0,VLOOKUP(B29,Payscale!R:T,3,0)))*D29) -> 0 | M29: =J29*1.03 -> 0 | P29: =M29*1.03 -> 0
G30: =IF(C30>0,(IF(ISERROR(VLOOKUP(B30,Payscale!R:S,2,0)),0,VLOOKUP(B30,Payscale!R:S,2,0)))*C30,(IF(ISERROR(VLOOKUP(B30,Payscale!R:T,3,0)),0,VLOOKUP(B30,Payscale!R:T,3,0)))*D30) -> 0 | J30: =IF(C30>0,(IF(ISERROR(VLOOKUP(B30,Payscale!R:S,2,0)),0,VLOOKUP(B30,Payscale!R:S,2,0)))*C30,(IF(ISERROR(VLOOKUP(B30,Payscale!R:T,3,0)),0,VLOOKUP(B30,Payscale!R:T,3,0)))*D30) -> 0 | M30: =J30*1.03 -> 0 | P30: =M30*1.03 -> 0
G31: =IF(C31>0,(IF(ISERROR(VLOOKUP(B31,Payscale!R:S,2,0)),0,VLOOKUP(B31,Payscale!R:S,2,0)))*C31,(IF(ISERROR(VLOOKUP(B31,Payscale!R:T,3,0)),0,VLOOKUP(B31,Payscale!R:T,3,0)))*D31) -> 0 | J31: =IF(C31>0,(IF(ISERROR(VLOOKUP(B31,Payscale!R:S,2,0)),0,VLOOKUP(B31,Payscale!R:S,2,0)))*C31,(IF(ISERROR(VLOOKUP(B31,Payscale!R:T,3,0)),0,VLOOKUP(B31,Payscale!R:T,3,0)))*D31) -> 0 | M31: =J31*1.03 -> 0 | P31: =M31*1.03 -> 0
G32: =IF(C32>0,(IF(ISERROR(VLOOKUP(B32,Payscale!R:S,2,0)),0,VLOOKUP(B32,Payscale!R:S,2,0)))*C32,(IF(ISERROR(VLOOKUP(B32,Payscale!R:T,3,0)),0,VLOOKUP(B32,Payscale!R:T,3,0)))*D32) -> 0 | J32: =IF(C32>0,(IF(ISERROR(VLOOKUP(B32,Payscale!R:S,2,0)),0,VLOOKUP(B32,Payscale!R:S,2,0)))*C32,(IF(ISERROR(VLOOKUP(B32,Payscale!R:T,3,0)),0,VLOOKUP(B32,Payscale!R:T,3,0)))*D32) -> 0 | M32: =J32*1.03 -> 0 | P32: =M32*1.03 -> 0
G33: =IF(C33>0,(IF(ISERROR(VLOOKUP(B33,Payscale!R:S,2,0)),0,VLOOKUP(B33,Payscale!R:S,2,0)))*C33,(IF(ISERROR(VLOOKUP(B33,Payscale!R:T,3,0)),0,VLOOKUP(B33,Payscale!R:T,3,0)))*D33) -> 0 | J33: =IF(C33>0,(IF(ISERROR(VLOOKUP(B33,Payscale!R:S,2,0)),0,VLOOKUP(B33,Payscale!R:S,2,0)))*C33,(IF(ISERROR(VLOOKUP(B33,Payscale!R:T,3,0)),0,VLOOKUP(B33,Payscale!R:T,3,0)))*D33) -> 0 | M33: =J33*1.03 -> 0 | P33: =M33*1.03 -> 0
A34: Total New Academic Time Expenditure | G34: =SUM(G29:G33) -> 0 | J34: =SUM(J29:J33) -> 0 | M34: =SUM(M29:M33) -> 0 | P34: =SUM(P29:P33) -> 0
A35: 2.1.3 Current Support staff time required
A36: Postgraduate secretary | G36: =IF(C36>0,(IF(ISERROR(VLOOKUP(B36,Payscale!R:S,2,0)),0,VLOOKUP(B36,Payscale!R:S,2,0)))*C36,(IF(ISERROR(VLOOKUP(B36,Payscale!R:T,3,0)),0,VLOOKUP(B36,Payscale!R:T,3,0)))*D36) -> 0 | J36: =IF(C36>0,(IF(ISERROR(VLOOKUP(B36,Payscale!R:S,2,0)),0,VLOOKUP(B36,Payscale!R:S,2,0)))*C36,(IF(ISERROR(VLOOKUP(B36,Payscale!R:T,3,0)),0,VLOOKUP(B36,Payscale!R:T,3,0)))*D36) -> 0 | M36: =J36*1.03 -> 0 | P36: =M36*1.03 -> 0
G37: =IF(C37>0,(IF(ISERROR(VLOOKUP(B37,Payscale!R:S,2,0)),0,VLOOKUP(B37,Payscale!R:S,2,0)))*C37,(IF(ISERROR(VLOOKUP(B37,Payscale!R:T,3,0)),0,VLOOKUP(B37,Payscale!R:T,3,0)))*D37) -> 0 | J37: =IF(C37>0,(IF(ISERROR(VLOOKUP(B37,Payscale!R:S,2,0)),0,VLOOKUP(B37,Payscale!R:S,2,0)))*C37,(IF(ISERROR(VLOOKUP(B37,Payscale!R:T,3,0)),0,VLOOKUP(B37,Payscale!R:T,3,0)))*D37) -> 0 | M37: =J37*1.03 -> 0 | P37: =M37*1.03 -> 0
G38: =IF(C38>0,(IF(ISERROR(VLOOKUP(B38,Payscale!R:S,2,0)),0,VLOOKUP(B38,Payscale!R:S,2,0)))*C38,(IF(ISERROR(VLOOKUP(B38,Payscale!R:T,3,0)),0,VLOOKUP(B38,Payscale!R:T,3,0)))*D38) -> 0 | J38: =IF(C38>0,(IF(ISERROR(VLOOKUP(B38,Payscale!R:S,2,0)),0,VLOOKUP(B38,Payscale!R:S,2,0)))*C38,(IF(ISERROR(VLOOKUP(B38,Payscale!R:T,3,0)),0,VLOOKUP(B38,Payscale!R:T,3,0)))*D38) -> 0 | M38: =J38*1.03 -> 0 | P38: =M38*1.03 -> 0
G39: =IF(C39>0,(IF(ISERROR(VLOOKUP(B39,Payscale!R:S,2,0)),0,VLOOKUP(B39,Payscale!R:S,2,0)))*C39,(IF(ISERROR(VLOOKUP(B39,Payscale!R:T,3,0)),0,VLOOKUP(B39,Payscale!R:T,3,0)))*D39) -> 0 | J39: =IF(C39>0,(IF(ISERROR(VLOOKUP(B39,Payscale!R:S,2,0)),0,VLOOKUP(B39,Payscale!R:S,2,0)))*C39,(IF(ISERROR(VLOOKUP(B39,Payscale!R:T,3,0)),0,VLOOKUP(B39,Payscale!R:T,3,0)))*D39) -> 0 | M39: =J39*1.03 -> 0 | P39: =M39*1.03 -> 0
A40: Total Current Support Time Expenditure | G40: =SUM(G36:G39) -> 0 | J40: =SUM(J36:J39) -> 0 | M40: =SUM(M36:M39) -> 0 | P40: =SUM(P36:P39) -> 0
A41: 2.1.4 New Support staff time required
A42: none | G42: =IF(C42>0,(IF(ISERROR(VLOOKUP(B42,Payscale!R:S,2,0)),0,VLOOKUP(B42,Payscale!R:S,2,0)))*C42,(IF(ISERROR(VLOOKUP(B42,Payscale!R:T,3,0)),0,VLOOKUP(B42,Payscale!R:T,3,0)))*D42) -> 0 | J42: =IF(C42>0,(IF(ISERROR(VLOOKUP(B42,Payscale!R:S,2,0)),0,VLOOKUP(B42,Payscale!R:S,2,0)))*C42,(IF(ISERROR(VLOOKUP(B42,Payscale!R:T,3,0)),0,VLOOKUP(B42,Payscale!R:T,3,0)))*D42) -> 0 | M42: =J42*1.03 -> 0 | P42: =M42*1.03 -> 0
...

Sheet Costing Template - Example
A1: Enter Programme / Course / Activity Name here
A2: Will this form a core academic course (through CAG i.e. credit bearing) or a non-core course (through Short Courses Committee i.e. non-credit bearing) | B2: Non-Standard Course / Activity
E5: Year zero | H5: Year one | K5: Year Two | N5: Year Three
A6: Example | E6: Predicted No of Students | F6: Fee (agreed with fees office) | G6: Total Income / Spend | H6: Predicted No of Students | I6: Fee (agreed with fees office) | J6: Total Income / Spend | K6: Predicted No of Students | L6: Fee (agreed with fees office) | M6: Total Income / Spend | N6: Predicted No of Students | O6: Fee (agreed with fees office) | P6: Total Income / Spend
A7: 1.1 Predicted Fee / Delegate Income | B7: Status | C7: Source of Estimated Fee e.g. Registry / Market Research | R7: FTE Calculator
A8: Income from fees (home) | B8: Full Time | C8: Per Registry | G8: =E8*F8 -> 0 | H8: 10 | I8: 4000 | J8: =H8*I8 -> 40000 | K8: 12 | L8: 4500 | M8: =K8*L8 -> 54000 | N8: 14 | O8: 5000 | P8: =N8*O8 -> 70000 | R8: FTE Calculator | Y8: % Effort
A9: Income from fees (overseas) | B9: Full Time | C9: Per Registry | G9: =E9*F9 -> 0 | H9: 5 | I9: 16000 | J9: =H9*I9 -> 80000 | K9: 8 | L9: 17000 | M9: =K9*L9 -> 136000 | N9: 12 | O9: 18000 | P9: =N9*O9 -> 216000 | R9: Position | S9: Start Date | T9: End Date | U9: Time | V9: % Effort | W9: FTE | Y9: 1 Day per week | Z9: 0.2
A10: Income from external funding | B10: Full Time | G10: =E10*F10 -> 0 | J10: =H10*I10 -> 0 | M10: =K10*L10 -> 0 | P10: =N10*O10 -> 0 | R10: Senior Teaching Fellow | S10: 44197 | T10: 44561 | U10: =IF(AND(0<S10, 0<T10),(DATEDIF(S10,T10,"d")+1)/365,0) -> 1 | V10: 0.15 | W10: =V10*U10 -> 0.15 | Y10: 2 Day per week | Z10: 0.4
A11: Income from fees (home) | B11: Part Time | G11: =E11*F11 -> 0 | J11: =H11*I11 -> 0 | M11: =K11*L11 -> 0 | P11: =N11*O11 -> 0 | R11: Teaching Fellow | S11: 44197 | T11: 44561 | U11: =IF(AND(0<S11, 0<T11),(DATEDIF(S11,T11,"d")+1)/365,0) -> 1 | V11: 0.2 | W11: =V11*U11 -> 0.2 | Y11: 3 Day per week | Z11: 0.6
A12: Income from fees (overseas) | B12: Part Time | G12: =E12*F12 -> 0 | J12: =H12*I12 -> 0 | M12: =K12*L12 -> 0 | P12: =N12*O12 -> 0 | R12: Teaching Fellow | S12: 44197 | T12: 44561 | U12: =IF(AND(0<S12, 0<T12),(DATEDIF(S12,T12,"d")+1)/365,0) -> 1 | V12: 0.5 | W12: =V12*U12 -> 0.5 | Y12: 4 Day per week | Z12: 0.8
A13: Income from external funding | B13: Part Time | G13: =E13*F13 -> 0 | J13: =H13*I13 -> 0 | M13: =K13*L13 -> 0 | P13: =N13*O13 -> 0 | R13: Teaching Administrator support | S13: 44197 | T13: 44561 | U13: =IF(AND(0<S13, 0<T13),(DATEDIF(S13,T13,"d")+1)/365,0) -> 1 | V13: 0.15 | W13: =V13*U13 -> 0.15 | Y13: 5 Day per week | Z13: 1
A14: 1.1 Total income from Fees | E14: =SUM(E8:E13) -> 0 | F14: =G14/E14 -> #DIV/0! | G14: =SUM(G8:G13) -> 0 | H14: =SUM(H8:H13) -> 15 | I14: =J14/H14 -> 8000 | J14: =SUM(J8:J13) -> 120000 | K14: =SUM(K8:K13) -> 20 | L14: =M14/K14 -> 9500 | M14: =SUM(M8:M13) -> 190000 | N14: =SUM(N8:N13) -> 26 | O14: =P14/N14 -> 11000 | P14: =SUM(P8:P13) -> 286000 | U14: =IF(AND(0<S14, 0<T14),(DATEDIF(S14,T14,"d")+1)/365,0) -> 0 | W14: =V14*U14 -> 0
A15: Misc income - Sponsorship of students | M15: 7000 | P15: 7000 | U15: =IF(AND(0<S15, 0<T15),(DATEDIF(S15,T15,"d")+1)/365,0) -> 0 | W15: =V15*U15 -> 0
A16: Misc income - please detail | U16: =IF(AND(0<S16, 0<T16),(DATEDIF(S16,T16,"d")+1)/365,0) -> 0 | W16: =V16*U16 -> 0
A17: Misc income - please detail | U17: =IF(AND(0<S17, 0<T17),(DATEDIF(S17,T17,"d")+1)/365,0) -> 0 | W17: =V17*U17 -> 0
A18: 1.0 Total income to University | G18: =G14+SUM(G15:G17) -> 0 | J18: =J14+SUM(J15:J17) -> 120000 | M18: =M14+SUM(M15:M17) -> 197000 | P18: =P14+SUM(P15:P17) -> 293000 | U18: =IF(AND(0<S18, 0<T18),(DATEDIF(S18,T18,"d")+1)/365,0) -> 0 | W18: =V18*U18 -> 0
U19: =IF(AND(0<S19, 0<T19),(DATEDIF(S19,T19,"d")+1)/365,0) -> 0 | W19: =V19*U19 -> 0
A20: 2.0 Costs | C20: Please only enter hours or FTE. Not both. FTE calculator is avaliable if needed. | U20: =IF(AND(0<S20, 0<T20),(DATEDIF(S20,T20,"d")+1)/365,0) -> 0 | W20: =V20*U20 -> 0
A21: 2.1.1 Current Academic staff time required | B21: Grade | C21: Hours | D21: %FTE | U21: =IF(AND(0<S21, 0<T21),(DATEDIF(S21,T21,"d")+1)/365,0) -> 0 | W21: =V21*U21 -> 0
A22: Senior Teaching Fellow | B22: Grade 8 | D22: 0.15 | J22: =IF(C22>0,(IF(ISERROR(VLOOKUP(B22,Payscale!R:S,2,0)),0,VLOOKUP(B22,Payscale!R:S,2,0)))*C22,(IF(ISERROR(VLOOKUP(B22,Payscale!R:T,3,0)),0,VLOOKUP(B22,Payscale!R:T,3,0)))*D22) -> 11529.75 | M22: =J22*1.03 -> 11875.642 | P22: =M22*1.03 -> 12231.912 | U22: =IF(AND(0<S22, 0<T22),(DATEDIF(S22,T22,"d")+1)/365,0) -> 0 | W22: =V22*U22 -> 0
A23: Professor Joe Bloggs | B23: Science Prof Average | C23: 56.55 | J23: =IF(C23>0,(IF(ISERROR(VLOOKUP(B23,Payscale!R:S,2,0)),0,VLOOKUP(B23,Payscale!R:S,2,0)))*C23,(IF(ISERROR(VLOOKUP(B23,Payscale!R:T,3,0)),0,VLOOKUP(B23,Payscale!R:T,3,0)))*D23) -> 3394.8594 | M23: =J23*1.03 -> 3496.7051 | P23: =M23*1.03 -> 3601.6063 | U23: =IF(AND(0<S23, 0<T23),(DATEDIF(S23,T23,"d")+1)/365,0) -> 0 | W23: =V23*U23 -> 0
A24: Teaching Fellow | B24: Grade 7 | D24: =W11 -> 0.2 | J24: =IF(C24>0,(IF(ISERROR(VLOOKUP(B24,Payscale!R:S,2,0)),0,VLOOKUP(B24,Payscale!R:S,2,0)))*C24,(IF(ISERROR(VLOOKUP(B24,Payscale!R:T,3,0)),0,VLOOKUP(B24,Payscale!R:T,3,0)))*D24) -> 12093.2 | M24: =J24*1.03 -> 12455.996 | P24: =M24*1.03 -> 12829.676 | U24: =IF(AND(0<S24, 0<T24),(DATEDIF(S24,T24,"d")+1)/365,0) -> 0 | W24: =V24*U24 -> 0
G25: =IF(C25>0,(IF(ISERROR(VLOOKUP(B25,Payscale!R:S,2,0)),0,VLOOKUP(B25,Payscale!R:S,2,0)))*C25,(IF(ISERROR(VLOOKUP(B25,Payscale!R:T,3,0)),0,VLOOKUP(B25,Payscale!R:T,3,0)))*D25) -> 0 | J25: =IF(C25>0,(IF(ISERROR(VLOOKUP(B25,Payscale!R:S,2,0)),0,VLOOKUP(B25,Payscale!R:S,2,0)))*C25,(IF(ISERROR(VLOOKUP(B25,Payscale!R:T,3,0)),0,VLOOKUP(B25,Payscale!R:T,3,0)))*D25) -> 0 | M25: =J25*1.03 -> 0 | P25: =M25*1.03 -> 0
G26: =IF(C26>0,(IF(ISERROR(VLOOKUP(B26,Payscale!R:S,2,0)),0,VLOOKUP(B26,Payscale!R:S,2,0)))*C26,(IF(ISERROR(VLOOKUP(B26,Payscale!R:T,3,0)),0,VLOOKUP(B26,Payscale!R:T,3,0)))*D26) -> 0 | J26: =IF(C26>0,(IF(ISERROR(VLOOKUP(B26,Payscale!R:S,2,0)),0,VLOOKUP(B26,Payscale!R:S,2,0)))*C26,(IF(ISERROR(VLOOKUP(B26,Payscale!R:T,3,0)),0,VLOOKUP(B26,Payscale!R:T,3,0)))*D26) -> 0 | M26: =J26*1.03 -> 0 | P26: =M26*1.03 -> 0
A27: Total Current Academic Time Expenditure | G27: =SUM(G22:G26) -> 0 | J27: =SUM(J22:J26) -> 27017.809 | M27: =SUM(M22:M26) -> 27828.344 | P27: =SUM(P22:P26) -> 28663.194
A28: 2.1.2 New Academic staff time required
A29: Teaching Fellow | B29: Grade 7 | D29: 0.5 | J29: =IF(C29>0,(IF(ISERROR(VLOOKUP(B29,Payscale!R:S,2,0)),0,VLOOKUP(B29,Payscale!R:S,2,0)))*C29,(IF(ISERROR(VLOOKUP(B29,Payscale!R:T,3,0)),0,VLOOKUP(B29,Payscale!R:T,3,0)))*D29) -> 30233 | M29: =J29*1.03 -> 31139.99 | P29: =M29*1.03 -> 32074.19
G30: =IF(C30>0,(IF(ISERROR(VLOOKUP(B30,Payscale!R:S,2,0)),0,VLOOKUP(B30,Payscale!R:S,2,0)))*C30,(IF(ISERROR(VLOOKUP(B30,Payscale!R:T,3,0)),0,VLOOKUP(B30,Payscale!R:T,3,0)))*D30) -> 0 | J30: =IF(C30>0,(IF(ISERROR(VLOOKUP(B30,Payscale!R:S,2,0)),0,VLOOKUP(B30,Payscale!R:S,2,0)))*C30,(IF(ISERROR(VLOOKUP(B30,Payscale!R:T,3,0)),0,VLOOKUP(B30,Payscale!R:T,3,0)))*D30) -> 0 | M30: =J30*1.03 -> 0 | P30: =M30*1.03 -> 0
G31: =IF(C31>0,(IF(ISERROR(VLOOKUP(B31,Payscale!R:S,2,0)),0,VLOOKUP(B31,Payscale!R:S,2,0)))*C31,(IF(ISERROR(VLOOKUP(B31,Payscale!R:T,3,0)),0,VLOOKUP(B31,Payscale!R:T,3,0)))*D31) -> 0 | J31: =IF(C31>0,(IF(ISERROR(VLOOKUP(B31,Payscale!R:S,2,0)),0,VLOOKUP(B31,Payscale!R:S,2,0)))*C31,(IF(ISERROR(VLOOKUP(B31,Payscale!R:T,3,0)),0,VLOOKUP(B31,Payscale!R:T,3,0)))*D31) -> 0 | M31: =J31*1.03 -> 0 | P31: =M31*1.03 -> 0
G32: =IF(C32>0,(IF(ISERROR(VLOOKUP(B32,Payscale!R:S,2,0)),0,VLOOKUP(B32,Payscale!R:S,2,0)))*C32,(IF(ISERROR(VLOOKUP(B32,Payscale!R:T,3,0)),0,VLOOKUP(B32,Payscale!R:T,3,0)))*D32) -> 0 | J32: =IF(C32>0,(IF(ISERROR(VLOOKUP(B32,Payscale!R:S,2,0)),0,VLOOKUP(B32,Payscale!R:S,2,0)))*C32,(IF(ISERROR(VLOOKUP(B32,Payscale!R:T,3,0)),0,VLOOKUP(B32,Payscale!R:T,3,0)))*D32) -> 0 | M32: =J32*1.03 -> 0 | P32: =M32*1.03 -> 0
G33: =IF(C33>0,(IF(ISERROR(VLOOKUP(B33,Payscale!R:S,2,0)),0,VLOOKUP(B33,Payscale!R:S,2,0)))*C33,(IF(ISERROR(VLOOKUP(B33,Payscale!R:T,3,0)),0,VLOOKUP(B33,Payscale!R:T,3,0)))*D33) -> 0 | J33: =IF(C33>0,(IF(ISERROR(VLOOKUP(B33,Payscale!R:S,2,0)),0,VLOOKUP(B33,Payscale!R:S,2,0)))*C33,(IF(ISERROR(VLOOKUP(B33,Payscale!R:T,3,0)),0,VLOOKUP(B33,Payscale!R:T,3,0)))*D33) -> 0 | M33: =J33*1.03 -> 0 | P33: =M33*1.03 -> 0
A34: Total New Academic Time Expenditure | G34: =SUM(G29:G33) -> 0 | J34: =SUM(J29:J33) -> 30233 | M34: =SUM(M29:M33) -> 31139.99 | P34: =SUM(P29:P33) -> 32074.19
A35: 2.1.3 Current Support staff time required
A36: School Manager | B36: Grade 7 | C36: 94.25 | J36: =IF(C36>0,(IF(ISERROR(VLOOKUP(B36,Payscale!R:S,2,0)),0,VLOOKUP(B36,Payscale!R:S,2,0)))*C36,(IF(ISERROR(VLOOKUP(B36,Payscale!R:T,3,0)),0,VLOOKUP(B36,Payscale!R:T,3,0)))*D36) -> 3023.3 | M36: =J36*1.03 -> 3113.999 | P36: =M36*1.03 -> 3207.419
A37: Teaching secretary | B37: Grade 3 | D37: 0.15 | J37: =IF(C37>0,(IF(ISERROR(VLOOKUP(B37,Payscale!R:S,2,0)),0,VLOOKUP(B37,Payscale!R:S,2,0)))*C37,(IF(ISERROR(VLOOKUP(B37,Payscale!R:T,3,0)),0,VLOOKUP(B37,Payscale!R:T,3,0)))*D37) -> 4293.45 | M37: =J37*1.03 -> 4422.2535 | P37: =M37*1.03 -> 4554.9211
G38: =IF(C38>0,(IF(ISERROR(VLOOKUP(B38,Payscale!R:S,2,0)),0,VLOOKUP(B38,Payscale!R:S,2,0)))*C38,(IF(ISERROR(VLOOKUP(B38,Payscale!R:T,3,0)),0,VLOOKUP(B38,Payscale!R:T,3,0)))*D38) -> 0 | J38: =IF(C38>0,(IF(ISERROR(VLOOKUP(B38,Payscale!R:S,2,0)),0,VLOOKUP(B38,Payscale!R:S,2,0)))*C38,(IF(ISERROR(VLOOKUP(B38,Payscale!R:T,3,0)),0,VLOOKUP(B38,Payscale!R:T,3,0)))*D38) -> 0 | M38: =J38*1.03 -> 0 | P38: =M38*1.03 -> 0
G39: =IF(C39>0,(IF(ISERROR(VLOOKUP(B39,Payscale!R:S,2,0)),0,VLOOKUP(B39,Payscale!R:S,2,0)))*C39,(IF(ISERROR(VLOOKUP(B39,Payscale!R:T,3,0)),0,VLOOKUP(B39,Payscale!R:T,3,0)))*D39) -> 0 | J39: =IF(C39>0,(IF(ISERROR(VLOOKUP(B39,Payscale!R:S,2,0)),0,VLOOKUP(B39,Payscale!R:S,2,0)))*C39,(IF(ISERROR(VLOOKUP(B39,Payscale!R:T,3,0)),0,VLOOKUP(B39,Payscale!R:T,3,0)))*D39) -> 0 | M39: =J39*1.03 -> 0 | P39: =M39*1.03 -> 0
A40: Total Current Support Time Expenditure | G40: =SUM(G36:G39) -> 0 | J40: =SUM(J36:J39) -> 7316.75 | M40: =SUM(M36:M39) -> 7536.2525 | P40: =SUM(P36:P39) -> 7762.3401
A41: 2.1.4 New Support staff time required
G42: =IF(C42>0,(IF(ISERROR(VLOOKUP(B42,Payscale!R:S,2,0)),0,VLOOKUP(B42,Payscale!R:S,2,0)))*C42,(IF(ISERROR(VLOOKUP(B42,Payscale!R:T,3,0)),0,VLOOKUP(B42,Payscale!R:T,3,0)))*D42) -> 0 | J42: =IF(C42>0,(IF(ISERROR(VLOOKUP(B42,Payscale!R:S,2,0)),0,VLOOKUP(B42,Payscale!R:S,2,0)))*C42,(IF(ISERROR(VLOOKUP(B42,Payscale!R:T,3,0)),0,VLOOKUP(B42,Payscale!R:T,3,0)))*D42) -> 0 | M42: =J42*1.03 -> 0 | P42: =M42*1.03 -> 0
...

Sheet Payscale
A1: Salary Scale August 2023 with costs | N1: Averge Prof Salaries
N2: Source | O2: Main
A4: NI | B4: S&LAS | C4: Total | F4: Pt | G4: 45139 | J4: USS | K4: NI | L4: Total | N4: Row Labels | O4: Average of Current
F5: 52 | J5: =G5*18% -> 0 | L5: =G5+J5+K5 -> 0 | N5: School of Art History | O5: 99159.28 | R5: Science Prof Average | S5: =((O6+O7+O9+O11+O14+O18+O19+O22+O23)/(36.25*52))/9 -> 60.03288 | T5: =(O6+O7+O9+O11+O14+O18+O19+O22+O23)/9 -> 113161.98 | V5: Overhead for UG | W5: =6403.59/120 -> 53.36325 | X5: 0.3
F6: 51 | H6: 9 | J6: =G6*18% -> 0 | L6: =G6+J6+K6 -> 0 | N6: School of Biology | O6: 116224.84 | R6: Arts Prof Average | S6: =((O5+O8+O10+O12+O13+O15+O16+O17+O20+O21)/(36.25*52))/10 -> 59.751606 | T6: =(O5+O8+O10+O12+O13+O15+O16+O17+O20+O21)/10 -> 112631.78 | V6: Overhead for PGT | W6: =6403.59/120 -> 53.36325 | X6: 0.3
F7: 50 | J7: =G7*18% -> 0 | L7: =G7+J7+K7 -> 0 | N7: School of Chemistry | O7: 118743.92 | R7: Grade 8 | S7: =L12/(36.25*52) -> 40.777188 | T7: =L12 -> 76865 | V7: Overhead for Summer Course | W7: =W6*0.9 -> 48.026925 | X7: 0.3
F8: 49 | J8: =G8*18% -> 0 | L8: =G8+J8+K8 -> 0 | N8: School of Classics | O8: 122962.7 | R8: Grade 7 | S8: =L20/(36.25*52) -> 32.077454 | T8: =L20 -> 60466
F9: 48 | I9: 8 | J9: =G9*18% -> 0 | L9: =G9+J9+K9 -> 0 | N9: School of Computer Science | O9: 114499.76 | R9: Grade 6 | S9: =L27/(36.25*52) -> 25.981963 | T9: =L27 -> 48976 | V9: Above information pulled from TRAC T. Info found at below location:
F10: 47 | J10: =G10*18% -> 0 | L10: =G10+J10+K10 -> 0 | N10: School of Divinity | O10: 110775.49 | R10: Grade 5 | S10: =C34/(36.25*52) -> 20.639257 | T10: =C34 -> 38905 | V10: X:\Finance\corplan\CP DATA\TRAC\TrAC Return 2018-19\I and E University
F11: 46 | J11: =G11*18% -> 0 | L11: =G11+J11+K11 -> 0 | N11: School of Earth Science | O11: 102643.97 | R11: Grade 4 | S11: =C40/(36.25*52) -> 17.323607 | T11: =C40 -> 32655
F12: 45 | G12: 57696 | J12: 12462 | K12: 6707 | L12: =G12+J12+K12 -> 76865 | N12: School of Economics & Finance | O12: 124499.7 | R12: Grade 3 | S12: =C46/(36.25*52) -> 15.184615 | T12: =C46 -> 28623
F13: 44 | L13: =G13+J13+K13 -> 0 | N13: School of English | O13: 108156.02 | R13: Grade 2 | S13: =C52/(36.25*52) -> 13.925729 | T13: =C52 -> 26250 | V13: Standard Course / Activity
F14: 43 | L14: =G14+J14+K14 -> 0 | N14: School of Geography & SD | O14: 112759.58 | V14: Non-Standard Course / Activity
F15: 42 | H15: 7 | L15: =G15+J15+K15 -> 0 | N15: School of History | O15: 110018.03
F16: 41 | L16: =G16+J16+K16 -> 0 | N16: School of International Relations | O16: 105178.39
F17: 40 | L17: =G17+J17+K17 -> 0 | N17: School of Management | O17: 122841.5
F18: 39 | L18: =G18+J18+K18 -> 0 | N18: School of Mathematics & Statistics | O18: 104989.37
F19: 38 | L19: =G19+J19+K19 -> 0 | N19: School of Medicine | O19: 113360.26
F20: 37 | G20: 45585 | J20: 9846 | K20: 5035 | L20: =G20+J20+K20 -> 60466 | N20: School of Modern Languages | O20: 109957.49
F21: 36 | L21: =G21+J21+K21 -> 0 | N21: School of Philos Anthro & Film Studies | O21: 112769.15
F22: 35 | L22: =G22+J22+K22 -> 0 | N22: School of Physics & Astronomy | O22: 119638.75
F23: 34 | I23: 6 | L23: =G23+J23+K23 -> 0 | N23: School of Psychology & Neuroscience | O23: 115597.35
F24: 33 | L24: =G24+J24+K24 -> 0 | N24: Grand Total
F25: 32 | L25: =G25+J25+K25 -> 0
F26: 31 | L26: =G26+J26+K26 -> 0
F27: 30 | G27: 37099 | J27: 8013 | K27: 3864 | L27: =G27+J27+K27 -> 48976 | N27: X:\Finance\corplan\Salaries
F28: 29 | L28: =G28+J28+K28 -> 0 | N28: Average Prof per School 2022-23
E29: 5 | F29: 28 | I29: 6T* | L29: =G29+J29+K29 -> 0
F30: 27 | L30: =G30+J30+K30 -> 0
F31: 26
F32: 25
F33: 24
A34: 2952 | B34: 5466 | C34: =G34+A34+B34 -> 38905 | F34: 23 | G34: 30487
F35: 22
F36: 21
D37: 4 | F37: 20
F38: 19
F39: 18
A40: 2297 | B40: 4616 | C40: =G40+A40+B40 -> 32655 | F40: 17 | G40: 25742
F41: 16
...
